BEGIN:VCALENDAR
VERSION:2.0
PRODID:-//Tupelo.Social - ECPv6.15.20//NONSGML v1.0//EN
CALSCALE:GREGORIAN
METHOD:PUBLISH
X-WR-CALNAME:Tupelo.Social
X-ORIGINAL-URL:https://www.tupelo.social
X-WR-CALDESC:Events for Tupelo.Social
REFRESH-INTERVAL;VALUE=DURATION:PT1H
X-Robots-Tag:noindex
X-PUBLISHED-TTL:PT1H
BEGIN:VTIMEZONE
TZID:America/Chicago
BEGIN:DAYLIGHT
TZOFFSETFROM:-0600
TZOFFSETTO:-0500
TZNAME:CDT
DTSTART:20230312T080000
END:DAYLIGHT
BEGIN:STANDARD
TZOFFSETFROM:-0500
TZOFFSETTO:-0600
TZNAME:CST
DTSTART:20231105T070000
END:STANDARD
BEGIN:DAYLIGHT
TZOFFSETFROM:-0600
TZOFFSETTO:-0500
TZNAME:CDT
DTSTART:20240310T080000
END:DAYLIGHT
BEGIN:STANDARD
TZOFFSETFROM:-0500
TZOFFSETTO:-0600
TZNAME:CST
DTSTART:20241103T070000
END:STANDARD
BEGIN:DAYLIGHT
TZOFFSETFROM:-0600
TZOFFSETTO:-0500
TZNAME:CDT
DTSTART:20250309T080000
END:DAYLIGHT
BEGIN:STANDARD
TZOFFSETFROM:-0500
TZOFFSETTO:-0600
TZNAME:CST
DTSTART:20251102T070000
END:STANDARD
END:VTIMEZONE
BEGIN:VEVENT
DTSTART;TZID=America/Chicago:20241125T153000
DTEND;TZID=America/Chicago:20241125T163000
DTSTAMP:20260419T064859
CREATED:20241101T212106Z
LAST-MODIFIED:20241101T212106Z
UID:1482-1732548600-1732552200@www.tupelo.social
SUMMARY:[Library] Lego Club
DESCRIPTION:Join us for Lego Club! Construct a design according to a theme or build your own masterpiece!
URL:https://www.tupelo.social/event/library-lego-club-2/
LOCATION:Lee County Library\, 219 N Madison St\, Tupelo\, MS\, 38804\, United States
CATEGORIES:Audience Participation,Books,Child-Oriented,Family-Friendly,Learning Event,Library Event,Nature Event
END:VEVENT
BEGIN:VEVENT
DTSTART;TZID=America/Chicago:20241121T153000
DTEND;TZID=America/Chicago:20241121T163000
DTSTAMP:20260419T064859
CREATED:20241101T212137Z
LAST-MODIFIED:20241101T212137Z
UID:1484-1732203000-1732206600@www.tupelo.social
SUMMARY:[Library] Homeschool Lego Club
DESCRIPTION:Join us for our Homeschool Lego Club! Construct a design according to a theme or build your own masterpiece!
URL:https://www.tupelo.social/event/library-lego-club-2-2/
LOCATION:Lee County Library\, 219 N Madison St\, Tupelo\, MS\, 38804\, United States
CATEGORIES:Audience Participation,Books,Child-Oriented,Family-Friendly,Learning Event,Library Event,Nature Event
END:VEVENT
BEGIN:VEVENT
DTSTART;TZID=America/Chicago:20241118T153000
DTEND;TZID=America/Chicago:20241118T163000
DTSTAMP:20260419T064859
CREATED:20241101T211902Z
LAST-MODIFIED:20241101T211902Z
UID:1476-1731943800-1731947400@www.tupelo.social
SUMMARY:[Library] Lego Club
DESCRIPTION:Join us for Lego Club! Construct a design according to a theme or build your own masterpiece!
URL:https://www.tupelo.social/event/library-lego-club/
LOCATION:Lee County Library\, 219 N Madison St\, Tupelo\, MS\, 38804\, United States
CATEGORIES:Audience Participation,Books,Child-Oriented,Family-Friendly,Learning Event,Library Event,Nature Event
END:VEVENT
BEGIN:VEVENT
DTSTART;TZID=America/Chicago:20241116T100000
DTEND;TZID=America/Chicago:20241116T110000
DTSTAMP:20260419T064859
CREATED:20241101T211751Z
LAST-MODIFIED:20241101T211918Z
UID:1474-1731751200-1731754800@www.tupelo.social
SUMMARY:[Library] Gardening Tutorial - Raised Bed Basics
DESCRIPTION:Fall is the perfect time to begin thinking about your gardening plans for the spring! Join our very own Philip Shackelford for an introduction to raised bed gardening—exploring different types of raised bed materials\, the benefits of raised bed gardening\, and some other tips and tricks along the way! This event will be held at the Lee County Library on Saturday\, November 14 beginning at 10:00 AM.
URL:https://www.tupelo.social/event/library-gardening-tutorial/
LOCATION:Lee County Library\, 219 N Madison St\, Tupelo\, MS\, 38804\, United States
CATEGORIES:Adult-Oriented,Audience Participation,Books,Family-Friendly,Learning Event,Library Event,Nature Event
END:VEVENT
BEGIN:VEVENT
DTSTART;TZID=America/Chicago:20241114T160000
DTEND;TZID=America/Chicago:20241114T170000
DTSTAMP:20260419T064859
CREATED:20241101T211606Z
LAST-MODIFIED:20241101T211626Z
UID:1471-1731600000-1731603600@www.tupelo.social
SUMMARY:[Library] Natchez Trace Park Rangers!
DESCRIPTION:Join us for a special presentation from Park Rangers from the Natchez Trace Parkway! The rangers will be discussing the wild animals that live along the Natchez Trace and will have animal fur and bones to display. This program designed for ages 6-11.
URL:https://www.tupelo.social/event/library-trace-park-rangers/
LOCATION:Lee County Library\, 219 N Madison St\, Tupelo\, MS\, 38804\, United States
CATEGORIES:Audience Participation,Books,Child-Oriented,Family-Friendly,Learning Event,Library Event,Nature Event
END:VEVENT
BEGIN:VEVENT
DTSTART;TZID=America/Chicago:20241026T100000
DTEND;TZID=America/Chicago:20241026T140000
DTSTAMP:20260419T064859
CREATED:20240628T214802Z
LAST-MODIFIED:20241018T151837Z
UID:1176-1729936800-1729951200@www.tupelo.social
SUMMARY:[Natchez Trace] Pioneer Day with the Tombigbee Pioneers
DESCRIPTION:Come out to celebrate Pioneer Day with us! The Tombigbee Pioneers will teach interactive pioneer era crafts to visitors and Junior Rangers. These skills were essential in developing creative solutions to challenges faced by pioneers from the 1700s to around 1840. \nJunior Rangers that participate with the Tombigbee Pioneer demonstration will receive a certificate and Junior Ranger badge.
URL:https://www.tupelo.social/event/natchez-trace-pioneer-day-with-the-tombigbee-pioneers/
LOCATION:Natchez Trace Visitor Center\, 2680 Natchez Trace Parkway\, Tupelo\, 38804
CATEGORIES:Child-Oriented,Cultural/Craft Demonstration,Family-Friendly,Guided Tour,Learning Event,Nature Event,Public Park Event
END:VEVENT
BEGIN:VEVENT
DTSTART;TZID=America/Chicago:20240810T110000
DTEND;TZID=America/Chicago:20240810T120000
DTSTAMP:20260419T064859
CREATED:20240729T152716Z
LAST-MODIFIED:20240729T152716Z
UID:1272-1723287600-1723291200@www.tupelo.social
SUMMARY:[Natchez Trace] Geological History Of Mississippi
DESCRIPTION:Ripped Open at the Seams: The Surprisingly Intense Geological History of Mississippi \nThere are some commonly accepted truths about Mississippi geology: the river usually wins; building on Yazoo clay is the worst; and if you’re looking for mountains here\, you might have to squint—our highest elevation is only 800 feet. But what if I told you that this state has been at the center of a geological battlefield for hundreds of millions of years\, torn apart and squeezed back together\, at different times giving birth to volcanoes\, oceans\, and mountain chains so large they rivaled the modern Himalayas? Intrigued? Come learn more at the Natchez Trace Parkway Visitor Center on Saturday\, August 10th at 11 a.m.
URL:https://www.tupelo.social/event/natchez-trace-geological-history-of-mississippi/
LOCATION:Natchez Trace Visitor Center\, 2680 Natchez Trace Parkway\, Tupelo\, 38804
CATEGORIES:Cultural/Craft Demonstration,Family-Friendly,Guided Tour,Learning Event,Nature Event,Public Park Event
END:VEVENT
END:VCALENDAR