BEGIN:VCALENDAR
VERSION:2.0
PRODID:-//Tupelo.Social - ECPv6.15.20//NONSGML v1.0//EN
CALSCALE:GREGORIAN
METHOD:PUBLISH
X-WR-CALNAME:Tupelo.Social
X-ORIGINAL-URL:https://www.tupelo.social
X-WR-CALDESC:Events for Tupelo.Social
REFRESH-INTERVAL;VALUE=DURATION:PT1H
X-Robots-Tag:noindex
X-PUBLISHED-TTL:PT1H
BEGIN:VTIMEZONE
TZID:America/Chicago
BEGIN:DAYLIGHT
TZOFFSETFROM:-0600
TZOFFSETTO:-0500
TZNAME:CDT
DTSTART:20230312T080000
END:DAYLIGHT
BEGIN:STANDARD
TZOFFSETFROM:-0500
TZOFFSETTO:-0600
TZNAME:CST
DTSTART:20231105T070000
END:STANDARD
BEGIN:DAYLIGHT
TZOFFSETFROM:-0600
TZOFFSETTO:-0500
TZNAME:CDT
DTSTART:20240310T080000
END:DAYLIGHT
BEGIN:STANDARD
TZOFFSETFROM:-0500
TZOFFSETTO:-0600
TZNAME:CST
DTSTART:20241103T070000
END:STANDARD
BEGIN:DAYLIGHT
TZOFFSETFROM:-0600
TZOFFSETTO:-0500
TZNAME:CDT
DTSTART:20250309T080000
END:DAYLIGHT
BEGIN:STANDARD
TZOFFSETFROM:-0500
TZOFFSETTO:-0600
TZNAME:CST
DTSTART:20251102T070000
END:STANDARD
END:VTIMEZONE
BEGIN:VEVENT
DTSTART;TZID=America/Chicago:20241116T100000
DTEND;TZID=America/Chicago:20241116T110000
DTSTAMP:20260419T114120
CREATED:20241101T211751Z
LAST-MODIFIED:20241101T211918Z
UID:1474-1731751200-1731754800@www.tupelo.social
SUMMARY:[Library] Gardening Tutorial - Raised Bed Basics
DESCRIPTION:Fall is the perfect time to begin thinking about your gardening plans for the spring! Join our very own Philip Shackelford for an introduction to raised bed gardening—exploring different types of raised bed materials\, the benefits of raised bed gardening\, and some other tips and tricks along the way! This event will be held at the Lee County Library on Saturday\, November 14 beginning at 10:00 AM.
URL:https://www.tupelo.social/event/library-gardening-tutorial/
LOCATION:Lee County Library\, 219 N Madison St\, Tupelo\, MS\, 38804\, United States
CATEGORIES:Adult-Oriented,Audience Participation,Books,Family-Friendly,Learning Event,Library Event,Nature Event
END:VEVENT
BEGIN:VEVENT
DTSTART;TZID=America/Chicago:20241115T180000
DTEND;TZID=America/Chicago:20241115T220000
DTSTAMP:20260419T114120
CREATED:20241018T145514Z
LAST-MODIFIED:20241018T145514Z
UID:1422-1731693600-1731708000@www.tupelo.social
SUMMARY:[Tupelo Women's Club] 2024 Holiday Tree Festival
DESCRIPTION:Tupelo Women’s Club presents Under The Mistletoe Holiday Tree Festival Friday\, November 15 at 6:00 p.m. at the Tupelo Cotton Mill. \nThis event will feature Style The Band\, a silent auction\, cash raffle\, food\, drinks and so much more! The purchase of your ticket will help support our five local charities: Helping Hands\, Safe\, Tree of Life Free Clinic\, Regional Rehab\, and Wear It Well. Get your ticket today at htf.givesmart.com!
URL:https://www.tupelo.social/event/tupelo-womens-club-2024-holiday-tree-festival/
LOCATION:Tupelo Cotton Mil\, 300 Elliott Street\, Tupelo\, MS\, 38801\, United States
END:VEVENT
BEGIN:VEVENT
DTSTART;TZID=America/Chicago:20241115T180000
DTEND;TZID=America/Chicago:20241115T210000
DTSTAMP:20260419T114120
CREATED:20241101T211011Z
LAST-MODIFIED:20241101T211011Z
UID:1461-1731693600-1731704400@www.tupelo.social
SUMMARY:[Queen's Reward] Board Game Night
DESCRIPTION:Board Game Night hosted by Tupelo Game Days\, food starts at 6:00\, games at 7:00. Seating is first-come\, first-served\, so arrive early and bring your best game-face! The Bleu Plate will be here serving their delicious specialties!
URL:https://www.tupelo.social/event/queens-reward-trivia-night-3/
LOCATION:Queen’s Reward Meadery\, 1719 McCullough Blvd\, Tupelo\, MS\, 38801\, United States
CATEGORIES:Adult-Oriented,Contest,Restaurant/Bar Event,Trivia
END:VEVENT
BEGIN:VEVENT
DTSTART;TZID=America/Chicago:20241114T160000
DTEND;TZID=America/Chicago:20241114T170000
DTSTAMP:20260419T114120
CREATED:20241101T211606Z
LAST-MODIFIED:20241101T211626Z
UID:1471-1731600000-1731603600@www.tupelo.social
SUMMARY:[Library] Natchez Trace Park Rangers!
DESCRIPTION:Join us for a special presentation from Park Rangers from the Natchez Trace Parkway! The rangers will be discussing the wild animals that live along the Natchez Trace and will have animal fur and bones to display. This program designed for ages 6-11.
URL:https://www.tupelo.social/event/library-trace-park-rangers/
LOCATION:Lee County Library\, 219 N Madison St\, Tupelo\, MS\, 38804\, United States
CATEGORIES:Audience Participation,Books,Child-Oriented,Family-Friendly,Learning Event,Library Event,Nature Event
END:VEVENT
BEGIN:VEVENT
DTSTART;TZID=America/Chicago:20241113T180000
DTEND;TZID=America/Chicago:20241113T210000
DTSTAMP:20260419T114120
CREATED:20241111T160357Z
LAST-MODIFIED:20241111T160357Z
UID:1519-1731520800-1731531600@www.tupelo.social
SUMMARY:[TCT] Auditions for Tone Clusters
DESCRIPTION:AUDITIONS FOR COMPETITION PRODUCTION: We are thrilled to announce auditions for Tone Clusters by Joyce Carroll Oates\, a gripping exploration of family\, memory\, and the unsettling nature of truth. Don’t miss the chance to be part of this thought-provoking production\, which will be presented at the Mississippi Theater Association Annual Festival in January. \nDate: Wednesday\, November 13 \nTime: 6:00 PM \nLocation: Lyric Theatre Rehearsal Hall. 201 N Broadway. \nCharacters: 2 M (35-55) and 1 F (35-55). This production will be directed by Jonathan Martin. \nCome prepared to read from the script. No prior preparation necessary. All experience levels are welcome! Bring your passion\, energy\, and unique voice to this powerful show. We cannot wait to see you there! \nFor questions or more info: email tctlyric@yahoo.com.
URL:https://www.tupelo.social/event/tct-auditions-for-tone-clusters/
LOCATION:The Lyric Theatre\, 201 N. Broadway St\, Tupelo\, MS\, 38804\, United States
CATEGORIES:Adult-Oriented,Audition,Play
END:VEVENT
BEGIN:VEVENT
DTSTART;TZID=America/Chicago:20241112T100000
DTEND;TZID=America/Chicago:20241112T110000
DTSTAMP:20260419T114120
CREATED:20241101T211451Z
LAST-MODIFIED:20241101T211515Z
UID:1469-1731405600-1731409200@www.tupelo.social
SUMMARY:[Library] Storytime
DESCRIPTION:Story time happens EVERY week here in the Lee County Library! Bring your family and join us for a fun time enjoying books\, crafts\, songs\, and time well-spent in the library! This week’s theme is kindness.
URL:https://www.tupelo.social/event/library-storytime-2-2/
LOCATION:Lee County Library\, 219 N Madison St\, Tupelo\, MS\, 38804\, United States
CATEGORIES:Audience Participation,Books,Child-Oriented,Family-Friendly,Library Event
END:VEVENT
BEGIN:VEVENT
DTSTART;TZID=America/Chicago:20241109T193000
DTEND;TZID=America/Chicago:20241109T213000
DTSTAMP:20260419T114120
CREATED:20240104T051911Z
LAST-MODIFIED:20241102T223052Z
UID:879-1731180600-1731187800@www.tupelo.social
SUMMARY:[Link Centre] West Of Shake Rag: The Feast of Fools Show
DESCRIPTION:Join us Sat November 9th for a night of family friendly fun! There will be Thanksgiving fun to be had by all with games & improvisational scenes made up on the spot using your suggestions. \nAdmission is only $5 & we’ll have free popcorn & beverages available to purchase. \nLocated in the black box theatre inside the Tupelo Link Centre. The doors open at 7pm\, and the show starts at 7:30pm. We’ll see you there!
URL:https://www.tupelo.social/event/west-of-shake-rag/
LOCATION:Link Centre\, 1800 W. Main St\, Tupelo\, 38801
CATEGORIES:Audience Participation,Family-Friendly,Social Gathering/Space
END:VEVENT
BEGIN:VEVENT
DTSTART;TZID=America/Chicago:20241109T150000
DTEND;TZID=America/Chicago:20241109T173000
DTSTAMP:20260419T114120
CREATED:20241102T024717Z
LAST-MODIFIED:20241102T024717Z
UID:1501-1731164400-1731173400@www.tupelo.social
SUMMARY:[TCT] Saturday with Harry -  Harry Potter & The Chamber of Secrets
DESCRIPTION:Starts tomorrow 11/2! Tickets are now available for our SATURDAYS WITH HARRY Movie Series. We are screening the entire Harry Potter series\, one movie at a time\, every Saturday in November and the last two Saturdays in December. Specially themed treats and magical photo ops will be available\, and you might even see your favorite character! Grab your wand\, put on your favorite costume\, hop on your broomstick and immerse yourself in the wizarding world of Hogwarts. Whether you’re a diehard fan or a curious Muggle\, this event is perfect for all ages. Don’t miss out on the chance to relive the adventures of Harry\, Hermione\, and Ron on the big screen with your friends and family! ⚡️🎃 \nTickets available at www.tctlyric.com.
URL:https://www.tupelo.social/event/tct-saturday-with-harry-harry-potter-the-chamber/
LOCATION:The Lyric Theatre\, 201 N. Broadway St\, Tupelo\, MS\, 38804\, United States
CATEGORIES:Audience Participation,Child-Oriented,Family-Friendly,Movie,Social Gathering/Space,Teen-Oriented,Theatre
END:VEVENT
BEGIN:VEVENT
DTSTART;TZID=America/Chicago:20241107T180000
DTEND;TZID=America/Chicago:20241107T210000
DTSTAMP:20260419T114120
CREATED:20240706T142346Z
LAST-MODIFIED:20241101T210934Z
UID:1245-1731002400-1731013200@www.tupelo.social
SUMMARY:[Queen's Reward] Singo Night
DESCRIPTION:SINGO is a music bingo game where you match songs to titles on your card and shout “SINGO!” to win prizes. \nSingo Night hosted by Brooks Weaver\, food starts at 6:00\, Singo at 7:00. Seating is first-come\, first-served\, so arrive early! DNB Kitchen will be on site serving dinner.
URL:https://www.tupelo.social/event/queens-reward-singo-night/
LOCATION:Queen’s Reward Meadery\, 1719 McCullough Blvd\, Tupelo\, MS\, 38801\, United States
CATEGORIES:Adult-Oriented,Restaurant/Bar Event,Singo
END:VEVENT
BEGIN:VEVENT
DTSTART;TZID=America/Chicago:20241105T100000
DTEND;TZID=America/Chicago:20241105T110000
DTSTAMP:20260419T114120
CREATED:20241101T211306Z
LAST-MODIFIED:20241101T211306Z
UID:1465-1730800800-1730804400@www.tupelo.social
SUMMARY:[Library] Storytime
DESCRIPTION:Story time happens EVERY week here in the Lee County Library! Bring your family and join us for a fun time enjoying books\, crafts\, songs\, and time well-spent in the library! This week’s theme is DINOvember!
URL:https://www.tupelo.social/event/library-storytime/
LOCATION:Lee County Library\, 219 N Madison St\, Tupelo\, MS\, 38804\, United States
CATEGORIES:Audience Participation,Books,Child-Oriented,Family-Friendly,Library Event
END:VEVENT
BEGIN:VEVENT
DTSTART;TZID=America/Chicago:20241102T150000
DTEND;TZID=America/Chicago:20241102T173000
DTSTAMP:20260419T114120
CREATED:20241102T024554Z
LAST-MODIFIED:20241102T024642Z
UID:1499-1730559600-1730568600@www.tupelo.social
SUMMARY:[TCT] Saturday with Harry -  Harry Potter & The Sorcerer's Stone
DESCRIPTION:Starts tomorrow 11/2! Tickets are now available for our SATURDAYS WITH HARRY Movie Series. We are screening the entire Harry Potter series\, one movie at a time\, every Saturday in November and the last two Saturdays in December. Specially themed treats and magical photo ops will be available\, and you might even see your favorite character! Grab your wand\, put on your favorite costume\, hop on your broomstick and immerse yourself in the wizarding world of Hogwarts. Whether you’re a diehard fan or a curious Muggle\, this event is perfect for all ages. Don’t miss out on the chance to relive the adventures of Harry\, Hermione\, and Ron on the big screen with your friends and family! ⚡️🎃 \nTickets available at www.tctlyric.com.
URL:https://www.tupelo.social/event/tct-saturday-with-harry-harry-potter-the-sorcerers-stone/
LOCATION:The Lyric Theatre\, 201 N. Broadway St\, Tupelo\, MS\, 38804\, United States
CATEGORIES:Audience Participation,Child-Oriented,Family-Friendly,Movie,Social Gathering/Space,Teen-Oriented,Theatre
END:VEVENT
BEGIN:VEVENT
DTSTART;TZID=America/Chicago:20241102T100000
DTEND;TZID=America/Chicago:20241102T150000
DTSTAMP:20260419T114120
CREATED:20241018T150328Z
LAST-MODIFIED:20241018T150913Z
UID:1431-1730541600-1730559600@www.tupelo.social
SUMMARY:[Oren Dunn] Fossil Road Show & Geology Fest
DESCRIPTION:Join us at the Oren Dunn City Museum on Saturday\, November 2\, 2024\, 10 am – 3 pm.\n\n\n\nThis family-oriented festival includes fun activities for kids and adults alike; displays of all sorts\, and a grab bag.\n\n\n\nThere will be professionals that will help you identify your rock and fossil collection.
URL:https://www.tupelo.social/event/oren-dunn-fossil-road-show-geology-fest/
LOCATION:Oren Dunn Museum\, 689 Rutherford Rd\, Tupelo\, MS\, 38801\, United States
END:VEVENT
BEGIN:VEVENT
DTSTART;TZID=America/Chicago:20241102T100000
DTEND;TZID=America/Chicago:20241102T120000
DTSTAMP:20260419T114120
CREATED:20240323T025638Z
LAST-MODIFIED:20241018T151914Z
UID:1015-1730541600-1730548800@www.tupelo.social
SUMMARY:[Natchez Trace] Dulcimer Music Performance
DESCRIPTION:A special program of dulcimer music will be provided by the North Mississippi Dulcimer Association from 10 am to noon on Saturday at the Parkway Visitor Center located at milepost 266 near Tupelo\, Mississippi. \nThe North Mississippi Dulcimer Association teaches dulcimer history\, tradition\, craftsmanship\, and music by sharing its knowledge and talents. The Appalachian mountain dulcimer is the first instrument developed in the United States. Dating back to the early 1800s\, the dulcimer is an instrument whose very name means “sweet sound.” The National Park Service and the North Mississippi Dulcimer Association invite everyone to listen to the soft sweet sounds of the dulcimer and learn about its extensive history.
URL:https://www.tupelo.social/event/dulcimer-music-performance/
LOCATION:Natchez Trace Visitor Center\, 2680 Natchez Trace Parkway\, Tupelo\, 38804
CATEGORIES:Cultural/Craft Demonstration,Family-Friendly
END:VEVENT
BEGIN:VEVENT
DTSTART;TZID=America/Chicago:20241101T190000
DTEND;TZID=America/Chicago:20241101T233000
DTSTAMP:20260419T114120
CREATED:20241101T214628Z
LAST-MODIFIED:20241101T214628Z
UID:1496-1730487600-1730503800@www.tupelo.social
SUMMARY:The "Night After" Halloween Party
DESCRIPTION:AMSTERDAM DELI 🍻🎃👻💀🍻 \n“THE NIGHT AFTER HALLOWEEN PARTY” \nNovember 1st | 7pm- until (NO COVER) \nHosted by Jordan & Ruth \nCostume Party\, drink and food specials\, with special guest “Brittany Jo” w/ DJ and Karaoke 🎤🎧 plus SO MUCH MORE‼️‼️ BE THERE OR BE SCARED
URL:https://www.tupelo.social/event/the-night-after-halloween-party/
LOCATION:Amsterdam Deli & Grill\, 128 Main Street\, Tupelo\, MS\, 38801\, United States
CATEGORIES:Adult-Oriented,Audience Participation,Contest,Downtown Event,Restaurant/Bar Event
END:VEVENT
BEGIN:VEVENT
DTSTART;TZID=America/Chicago:20241101T180000
DTEND;TZID=America/Chicago:20241101T200000
DTSTAMP:20260419T114120
CREATED:20241018T150842Z
LAST-MODIFIED:20241018T150842Z
UID:1437-1730484000-1730491200@www.tupelo.social
SUMMARY:[Oren Dunn] History of Paleontology in Mississippi
DESCRIPTION:Join us at the Oren Dunn City Museum for a “History of Paleontology in Mississippi\,” on Friday\, November 1\, 2024\, 6 pm – 8 pm.
URL:https://www.tupelo.social/event/oren-dunn-history-of-paleontology-in-mississippi/
LOCATION:Oren Dunn Museum\, 689 Rutherford Rd\, Tupelo\, MS\, 38801\, United States
END:VEVENT
BEGIN:VEVENT
DTSTART;TZID=America/Chicago:20241031T203000
DTEND;TZID=America/Chicago:20241031T230000
DTSTAMP:20260419T114120
CREATED:20241018T151817Z
LAST-MODIFIED:20241018T151817Z
UID:1445-1730406600-1730415600@www.tupelo.social
SUMMARY:[Blue Canoe] Halloween Costume Party featuring Sasquatch Training Ground
DESCRIPTION:Free event! Donations to Falling Thru The Cracks charity are encouraged.
URL:https://www.tupelo.social/event/blue-canoe-halloween-costume-party-featuring-sasquatch-training-ground/
LOCATION:Blue Canoe\, 2006 North Gloster St.\, Tupelo\, MS\, 38804\, United States
END:VEVENT
BEGIN:VEVENT
DTSTART;TZID=America/Chicago:20241031T190000
DTEND;TZID=America/Chicago:20241031T230000
DTSTAMP:20260419T114120
CREATED:20241018T144145Z
LAST-MODIFIED:20241018T144145Z
UID:1416-1730401200-1730415600@www.tupelo.social
SUMMARY:Halloween Night Boos & Brews for Adults
DESCRIPTION:BOOS & BREWS \n2 for 1 beer special \nmusic by DJ Joe \nmust be 30 or older \nTICKETS \nonline/door $10 ea \n321 Tolbert St.\, Tupelo \ntickets: parkhilldynasty.com or facebook @ParkhillDynasty
URL:https://www.tupelo.social/event/halloween-night-boos-brews-for-adults/
LOCATION:Parkhill Dynasty\, 321 Tolbert St.\, Tupelo\, MS\, 38804\, United States
CATEGORIES:Adult-Oriented
END:VEVENT
BEGIN:VEVENT
DTSTART;TZID=America/Chicago:20241031T180000
DTEND;TZID=America/Chicago:20241031T193000
DTSTAMP:20260419T114120
CREATED:20241018T145752Z
LAST-MODIFIED:20241018T145752Z
UID:1424-1730397600-1730403000@www.tupelo.social
SUMMARY:Trick Or Treat at The Manor On Lawndale
DESCRIPTION:The Manor on Lawndale is a Retirement & Assisted Living Facility. \nCome trick or treat with the residents and have the best time!
URL:https://www.tupelo.social/event/trick-or-treat-at-the-manor-on-lawndale/
LOCATION:The Manor on Lawndale\, 2429 Lawndale Dr\, Tupelo\, MS\, 38801\, United States
CATEGORIES:Child-Oriented
END:VEVENT
BEGIN:VEVENT
DTSTART;TZID=America/Chicago:20241031T180000
DTEND;TZID=America/Chicago:20241031T190000
DTSTAMP:20260419T114120
CREATED:20241018T162003Z
LAST-MODIFIED:20241018T162003Z
UID:1454-1730397600-1730401200@www.tupelo.social
SUMMARY:[Lee County Library] Tracing What's Left
DESCRIPTION:Join us for Tracing What’s Left: An Introduction to Archeology and its Connection to the Natchez Trace Parkway\, a free workshop provided by the archaeologist with the Natchez Trace Parkway in recognition of Archaeology Month in Mississippi. This event will be held in the Lee County Library’s Helen Foster Auditorium on Thursday\, October 31 from 6:00-7:00 PM. Don’t miss this program!
URL:https://www.tupelo.social/event/lee-county-library-tracing-whats-left/
LOCATION:Lee County Library\, 219 N Madison St\, Tupelo\, MS\, 38804\, United States
END:VEVENT
BEGIN:VEVENT
DTSTART;TZID=America/Chicago:20241029T180000
DTEND;TZID=America/Chicago:20241029T210000
DTSTAMP:20260419T114120
CREATED:20240706T142534Z
LAST-MODIFIED:20240905T152416Z
UID:1248-1730224800-1730235600@www.tupelo.social
SUMMARY:[Queen's Reward] Halloween Trivia & Costume Contest
DESCRIPTION:Join us for our annual Halloween Trivia Night and Costume Contest featuring Trivia Master Brian Baldwin\, Food starts at 6:00\, and trivia at 7:00. Seating is first-come\, first-served\, so arrive early!
URL:https://www.tupelo.social/event/queens-reward-trivia-night-2/
LOCATION:Queen’s Reward Meadery\, 1719 McCullough Blvd\, Tupelo\, MS\, 38801\, United States
CATEGORIES:Adult-Oriented,Audience Participation,Restaurant/Bar Event,Trivia
END:VEVENT
BEGIN:VEVENT
DTSTART;TZID=America/Chicago:20241026T140000
DTEND;TZID=America/Chicago:20241026T150000
DTSTAMP:20260419T114120
CREATED:20241018T204800Z
LAST-MODIFIED:20241018T204800Z
UID:1456-1729951200-1729954800@www.tupelo.social
SUMMARY:[Natchez Trace] Tracing What's Left: An Introduction To Archeology On The Trace
DESCRIPTION:October is International Archeology Month and our very own Park Service archeologist\, Heather\, is here to give us the deets about archeology along the Natchez Trace! \nJoin us at the Parkway Visitor Center on Saturday\, October 26th at 2 p.m. as Heather regals us with tales about being an archeologist in this modern day\, and how archeology plays such an important part of the story of the Natchez Trace Parkway. \nThe Parkway Visitor Center is located on the Natchez Trace at milepost 266. Check out our event calendar at www.nps.gov/natr/planyourvisit/calendar.htm for more things to do.
URL:https://www.tupelo.social/event/natchez-trace-tracing-whats-left-an-introduction-to-archeology-on-the-trace/
LOCATION:Natchez Trace Visitor Center\, 2680 Natchez Trace Parkway\, Tupelo\, 38804
END:VEVENT
BEGIN:VEVENT
DTSTART;TZID=America/Chicago:20241026T100000
DTEND;TZID=America/Chicago:20241026T233000
DTSTAMP:20260419T114120
CREATED:20241018T151700Z
LAST-MODIFIED:20241018T151700Z
UID:1442-1729936800-1729985400@www.tupelo.social
SUMMARY:Pick Your Own Pumpkin
DESCRIPTION:Join us for a delightful autumn event where kids can enjoy the unique experience of picking their very own pumpkin from our water-filled patch! This event is perfect for families looking to celebrate the autumn season together. Pre-register at the Tupelo Aquatic Center for only $10 per child.
URL:https://www.tupelo.social/event/pick-your-own-pumpkin/
LOCATION:Tupelo Aquatic Center\, 692 N Veterans Blvd\, Tupelo\, MS\, 38801\, United States
END:VEVENT
BEGIN:VEVENT
DTSTART;TZID=America/Chicago:20241026T100000
DTEND;TZID=America/Chicago:20241026T140000
DTSTAMP:20260419T114120
CREATED:20240628T214802Z
LAST-MODIFIED:20241018T151837Z
UID:1176-1729936800-1729951200@www.tupelo.social
SUMMARY:[Natchez Trace] Pioneer Day with the Tombigbee Pioneers
DESCRIPTION:Come out to celebrate Pioneer Day with us! The Tombigbee Pioneers will teach interactive pioneer era crafts to visitors and Junior Rangers. These skills were essential in developing creative solutions to challenges faced by pioneers from the 1700s to around 1840. \nJunior Rangers that participate with the Tombigbee Pioneer demonstration will receive a certificate and Junior Ranger badge.
URL:https://www.tupelo.social/event/natchez-trace-pioneer-day-with-the-tombigbee-pioneers/
LOCATION:Natchez Trace Visitor Center\, 2680 Natchez Trace Parkway\, Tupelo\, 38804
CATEGORIES:Child-Oriented,Cultural/Craft Demonstration,Family-Friendly,Guided Tour,Learning Event,Nature Event,Public Park Event
END:VEVENT
BEGIN:VEVENT
DTSTART;TZID=America/Chicago:20241025T173000
DTEND;TZID=America/Chicago:20241025T210000
DTSTAMP:20260419T114120
CREATED:20241018T145931Z
LAST-MODIFIED:20241018T145931Z
UID:1427-1729877400-1729890000@www.tupelo.social
SUMMARY:[Downtown Tupelo] 2024 Tupelo Ale Trail
DESCRIPTION:Join us for a fun-filled evening exploring the best Shops in Downtown Tupelo on the 2024 Ale Trail! \nWelcome to the 2024 Downtown Tupelo Ale Trail ! Join us for a fun-filled evening of exploring the best Shops of Downtown Tupelo . Sample a variety of craft beers\, meet fellow beer enthusiasts\, and enjoy live music and delicious food. Don’t miss out on this exciting event! This event is sponsored by FNB Tupelo and Mitchell Distributing
URL:https://www.tupelo.social/event/downtown-tupelo-2024-tupelo-ale-trail/
LOCATION:Downtown Tupelo\, Tupelo
CATEGORIES:Adult-Oriented
END:VEVENT
BEGIN:VEVENT
DTSTART;TZID=America/Chicago:20241024T173000
DTEND;TZID=America/Chicago:20241024T190000
DTSTAMP:20260419T114120
CREATED:20241018T161902Z
LAST-MODIFIED:20241018T161902Z
UID:1452-1729791000-1729796400@www.tupelo.social
SUMMARY:[Lee County Library] Movie: House on Haunted Hill (1959)
DESCRIPTION:For the next Paranormal Interest Group meeting … we’re having a spooky movie night! On Thursday\, October 24 at 5:45 pm\, we’ll be showing the 1959 Vincent Price classic\, House on Haunted Hill. \nPopcorn provided and costumes are encouraged (we will be dressed up so it would be cool if you were too!)
URL:https://www.tupelo.social/event/lee-county-library-movie-house-on-haunted-hill-1959/
LOCATION:Lee County Library\, 219 N Madison St\, Tupelo\, MS\, 38804\, United States
END:VEVENT
BEGIN:VEVENT
DTSTART;TZID=America/Chicago:20241024T080000
DTEND;TZID=America/Chicago:20241114T170000
DTSTAMP:20260419T114120
CREATED:20241018T150747Z
LAST-MODIFIED:20241018T150747Z
UID:1435-1729756800-1731603600@www.tupelo.social
SUMMARY:[Oren Dunn] Rock\, Fossil\, and Gem Exhibit
DESCRIPTION:Join us at the Oren Dunn City Museum for a great time! \nWe’ve got ROCKS in the HOUSE!! or will have on Thursday\, October 24\, 2024 until November 14\, 2024.
URL:https://www.tupelo.social/event/oren-dunn-rock-fossil-and-gem-exhibit/
LOCATION:Oren Dunn Museum\, 689 Rutherford Rd\, Tupelo\, MS\, 38801\, United States
END:VEVENT
BEGIN:VEVENT
DTSTART;TZID=America/Chicago:20241023T090000
DTEND;TZID=America/Chicago:20241023T100000
DTSTAMP:20260419T114120
CREATED:20241018T161735Z
LAST-MODIFIED:20241018T161735Z
UID:1448-1729674000-1729677600@www.tupelo.social
SUMMARY:[Lee County Library] Public Service Breakfast
DESCRIPTION:The Lee County Library and Friends of the Lee County Library is offering breakfast and coffee as a way to say thank you to those in public service who help fund the library\, maintain our building\, and provide a safe and welcoming environment for our patrons\, staff\, and community. Members of the Lee County Maintenance Department\, Lee County Board of Supervisors\, Lee County Sheriff’s Department\, Tupelo City Council\, and Tupelo Police Department are invited to partake in this free\, come-and-go breakfast on Wednesday\, October 23 from 9 AM – 10 AM in the Helen Foster Auditorium.
URL:https://www.tupelo.social/event/lee-county-library-public-service-breakfast/
LOCATION:Lee County Library\, 219 N Madison St\, Tupelo\, MS\, 38804\, United States
END:VEVENT
BEGIN:VEVENT
DTSTART;TZID=America/Chicago:20241019T200000
DTEND;TZID=America/Chicago:20241019T230000
DTSTAMP:20260419T114120
CREATED:20241018T143945Z
LAST-MODIFIED:20241018T143945Z
UID:1413-1729368000-1729378800@www.tupelo.social
SUMMARY:Halloween Party with The Pine Hill Haints\, Samhain:Initium\, and DJ Cam Jones
DESCRIPTION:In Change Skateshop\, Saturday\, October 19th at 8 PM \nCostume Contest! Dance Floor of the Damned by DJ Cam Jones! Alabama Ghost Music by the ‘Haints! The Annual Live Performance of Samhain’s 1984 debut record “Initium!” \nGet out and kick off Spooky Season right! \nFood by the Handpie Guy and nuff beverages. All Ages / All Welcome \nScream\, Dracula\, Scream!! \nInside CHANGE: 5339 Cliff Gookin Blvd. Tupelo\, MS 38801 Cliff Gookin Blvd. Tupelo\, MS 38801
URL:https://www.tupelo.social/event/halloween-party-with-the-pine-hill-haints-samhaininitium-and-dj-cam-jones/
LOCATION:Change Skateshop\, 5339 Cliff Gookin Blvd.\, Tupelo\, MS\, 38801\, United States
END:VEVENT
BEGIN:VEVENT
DTSTART;TZID=America/Chicago:20241019T200000
DTEND;TZID=America/Chicago:20241019T230000
DTSTAMP:20260419T114120
CREATED:20241018T051502Z
LAST-MODIFIED:20241018T051502Z
UID:1409-1729368000-1729378800@www.tupelo.social
SUMMARY:[Ballard] Fall Movie In The Park - Inside Out 2
DESCRIPTION:Ballard Park Soccer Fields Near the Concession Stand \nStarts at 8-ish
URL:https://www.tupelo.social/event/ballard-fall-movie-in-the-park-inside-out-2/
LOCATION:Ballard Park\, 689 Rutherford Road\, Tupelo\, 38801\, United States
CATEGORIES:Art Performance,Movie
END:VEVENT
BEGIN:VEVENT
DTSTART;TZID=America/Chicago:20241019T183000
DTEND;TZID=America/Chicago:20241019T210000
DTSTAMP:20260419T114120
CREATED:20240809T131350Z
LAST-MODIFIED:20241018T051643Z
UID:1343-1729362600-1729371600@www.tupelo.social
SUMMARY:[Link Centre] Secret Art Show
DESCRIPTION:6:25 P.M.\nLink Centre Reception Hall\nDouble door entrance on Stephen D Lee
URL:https://www.tupelo.social/event/link-centre-secret-art-show-10-years/
LOCATION:Link Centre\, 1800 W. Main St\, Tupelo\, 38801
CATEGORIES:Adult-Oriented,Art Show,Cultural/Craft Demonstration,Social Gathering/Space
END:VEVENT
END:VCALENDAR